BEGIN:VCALENDAR
VERSION:2.0
PRODID:-//gyrobase/iCalendar//NONSGML v1.0//EN
BEGIN:VEVENT
LOCATION:11001 Euclid Ave.\,Cleveland\, \,Cleveland\, OH\, 44106
DTSTART;VALUE=DATE:20260515
DTEND;VALUE=DATE:20260516
SUMMARY:The Worlds of Terence Blanchard
DESCRIPTION:The trumpeter and composer opens the 2026 Mandel Opera & Humanities festival with this special show at Mandel Concert Hall. The event begins at 7 p.m.
LOCATION;ALTREP="https://www.clevescene.com/location/severance-music-center-1432086":Severance Music Center @ 11001 Euclid Ave.\,Cleveland\,OH  44106
CATEGORIES:Seasonal Special Happenings
END:VEVENT
END:VCALENDAR