BEGIN:VCALENDAR
VERSION:2.0
PRODID:-//gyrobase/iCalendar//NONSGML v1.0//EN
BEGIN:VEVENT
LOCATION:11001 Euclid Ave.\,Cleveland\, \,Cleveland\, OH\, 44106
DTSTART;VALUE=DATE:20260507
DTEND;VALUE=DATE:20260508
SUMMARY:Wagner's Götterdämmerung
DESCRIPTION:Clarinetist Jörg Widmann joins the Cleveland Orchestra as it plays excerpts from Wagner's four-part Ring cycle. The concert begins at 7:30 p.m. at Mandel Concert Hall\, where performances also take place tomorrow and Saturday.
LOCATION;ALTREP="https://www.clevescene.com/location/severance-music-center-1432086":Severance Music Center @ 11001 Euclid Ave.\,Cleveland\,OH  44106
CATEGORIES:DJ & Dance
END:VEVENT
END:VCALENDAR