BEGIN:VCALENDAR
VERSION:2.0
PRODID:-//gyrobase/iCalendar//NONSGML v1.0//EN
BEGIN:VEVENT
LOCATION:308 Euclid Ave.\,Cleveland\, \,Cleveland\, OH\, 44114
DTSTART;VALUE=DATE:20260515
DTEND;VALUE=DATE:20260516
SUMMARY:Tenille Townes
DESCRIPTION:This talented singer-songwriter completely recorded\, produced and mixed her latest album\, the stripped-down The Acrobat. Her tour in support of the release brings her to House of Blues Cambridge Room.
LOCATION;ALTREP="https://www.clevescene.com/location/house-of-blues-cambridge-room-3061461":House of Blues Cambridge Room @ 308 Euclid Ave.\,Cleveland\,OH  44114
CATEGORIES:DJ & Dance
END:VEVENT
END:VCALENDAR