BEGIN:VCALENDAR
VERSION:2.0
PRODID:-//gyrobase/iCalendar//NONSGML v1.0//EN
BEGIN:VEVENT
LOCATION:1519 Euclid Ave.\,Cleveland\, \,Cleveland\, OH\, 44115
DTSTART;VALUE=DATE:20260507
DTEND;VALUE=DATE:20260508
SUMMARY:An Evening with David Byrne: Who Is the Sky Tour
DESCRIPTION:The former Talking Heads frontman brings his latest solo tour to the State Theatre. The show begins at 8 p.m.
LOCATION;ALTREP="https://www.clevescene.com/location/keybank-state-theatre-1431520":KeyBank State Theatre @ 1519 Euclid Ave.\,Cleveland\,OH  44115
CATEGORIES:DJ & Dance
END:VEVENT
END:VCALENDAR