BEGIN:VCALENDAR
VERSION:2.0
PRODID:-//gyrobase/iCalendar//NONSGML v1.0//EN
BEGIN:VEVENT
LOCATION:3228 Lorain Ave\,Cleveland\, \,Cleveland\, OH\, 44113
DTSTART:20260422T180000
DTEND:20260422T203000
SUMMARY:Earth Day Game Night: Climate Fresk
DESCRIPTION:Celebrate Earth Day with a collaborative game night focused on climate science and how you can take action regionally. The game\, called Climate Fresk\, will expand your understanding of climate change\, help you network with neighbors\, and explore your role in the climate movement. Suitable for ages 14 and up. Snacks provided. BYOB. Price: $26
LOCATION;ALTREP="https://www.clevescene.com/location/blue-jay-retail-47386720":Blue Jay Retail @ 3228 Lorain Ave\,Cleveland\,OH  44113
CATEGORIES:Classes & Workshops,Seasonal Special Happenings
END:VEVENT
END:VCALENDAR