BEGIN:VCALENDAR
VERSION:2.0
PRODID:-//gyrobase/iCalendar//NONSGML v1.0//EN
BEGIN:VEVENT
LOCATION:3228 Lorain Ave\,Cleveland\, \,Cleveland\, OH\, 44113
DTSTART:20260419T130000
DTEND:20260419T140000
SUMMARY:Sunday Storytime: Kit the Keystone
DESCRIPTION:Ohio author Jess Leibson will read from her book Kit the Keystone\, a sweet story about beavers\, frogs\, and other species and native plants. Books available for sale. The author will do signings. Price: Free
LOCATION;ALTREP="https://www.clevescene.com/location/blue-jay-retail-47386720":Blue Jay Retail @ 3228 Lorain Ave\,Cleveland\,OH  44113
CATEGORIES:Family & Kids,Books\, Lit\, & Authors
END:VEVENT
END:VCALENDAR