BEGIN:VCALENDAR
VERSION:2.0
PRODID:-//gyrobase/iCalendar//NONSGML v1.0//EN
BEGIN:VEVENT
LOCATION:14812 Lake Ave.\,Lakewood\, \,Lakewood\, OH\, 44107
DTSTART:20260530T180000
DTEND:20260530T200000
SUMMARY:Music in the Garden at Centering Space: Guitarist John Lucic
DESCRIPTION:Join us for live music in the garden on May 30 at Centering Space featuring John Lucic on guitar\, playing blues\, pop and rock from eras ranging from the 1930s to the present. Located in the heart of Lakewood\, behind Lakewood Catholic Academy and just steps from the shores of Lake Erie\, Centering Space offers a peaceful retreat from the busyness of everyday life. Invite your friends\, bring a chair and a picnic basket and relax to familiar tunes. Your Free Will Offering supports the Ministry of Centering Space. Price: Donation
LOCATION;ALTREP="https://www.clevescene.com/location/centering-space-47730262":Centering Space @ 14812 Lake Ave.\,Lakewood\,OH  44107
CATEGORIES:Music Around Town
END:VEVENT
END:VCALENDAR