BEGIN:VCALENDAR
VERSION:2.0
PRODID:-//gyrobase/iCalendar//NONSGML v1.0//EN
BEGIN:VEVENT
LOCATION:Cleveland Museum of Art\,Cleveland Hts.\, \,Cleveland Hts.\, OH\, 44106
DTSTART:20260614T150000
DTEND:20260614T160000
SUMMARY:Walk On: The Power of Carousel
DESCRIPTION:In 1999\, Time magazine named Carousel the Best Musical of the 20th century and wrote that Rodgers and Hammerstein "set the standards for the 20th century musical…this show features their most beautiful score and the most skillful and affecting example of their musical storytelling". Join BILL RUDMAN and NANCY MAIER for an in-depth look at this musical theater classic in The Musical Theater Project’s production of Walk On: The Power of Carousel. Bill and Nancy will tell the story\, along with the saga of the musical’s creation\, aided by soloists\, a chorus and an instrumental ensemble. Price: $50
LOCATION;ALTREP="https://www.clevescene.com/location/gartner-auditorium-1431633":Gartner Auditorium @ Cleveland Museum of Art\,Cleveland Hts.\,OH  44106
CATEGORIES:Theatrical Events
END:VEVENT
END:VCALENDAR