BEGIN:VCALENDAR
VERSION:2.0
PRODID:-//gyrobase/iCalendar//NONSGML v1.0//EN
BEGIN:VEVENT
LOCATION:308 Euclid Ave.\,Cleveland\, \,Cleveland\, OH\, 44114
DTSTART:20261011T190000
DTEND:20261011T200000
SUMMARY:Tab Benoit w/ Ghalia Volt: Soul of the Swamp Tour
DESCRIPTION:
LOCATION;ALTREP="https://www.clevescene.com/location/house-of-blues-1432461":House of Blues @ 308 Euclid Ave.\,Cleveland\,OH  44114
CATEGORIES:Music Around Town
END:VEVENT
END:VCALENDAR