BEGIN:VCALENDAR
VERSION:2.0
PRODID:-//gyrobase/iCalendar//NONSGML v1.0//EN
BEGIN:VEVENT
LOCATION:Hotel Occidental Aurelia Via di Torre Rossa 80\, Roma\, Italia 00165 Roma\, Italia\,Rome\, \,Rome\, Rome\, 00165
DTSTART:20260914T090000
DTEND:20260914T180000
SUMMARY:International Congress on Dermatology & Cosmetic Research 2026
DESCRIPTION:Join world-renowned dermatologists and cosmetic researchers at the International Dermatology & Cosmetic Research Congress 2026 on September 14–15\, 2026\, in Rome\, Italy and online. Held in Rome\, Italy and virtually\, the event showcases cutting-edge research\, clinical updates\, aesthetic innovations\, and global insights driving dermatologic progress. Price: 799
LOCATION;ALTREP="https://www.clevescene.com/location/hotel-occidental-aurelia-47723178":Hotel Occidental Aurelia @ Hotel Occidental Aurelia Via di Torre Rossa 80\, Roma\, Italia 00165 Roma\, Italia\,Rome\,Rome  00165
CATEGORIES:Classes & Workshops
END:VEVENT
END:VCALENDAR