BEGIN:VCALENDAR
VERSION:2.0
PRODID:-//gyrobase/iCalendar//NONSGML v1.0//EN
BEGIN:VEVENT
LOCATION:3244 St. Clair\,Cleveland\, \,Cleveland\, OH
DTSTART:20260419T190000
DTEND:20260419T000000
RRULE:FREQ=MONTHLY;INTERVAL=1;UNTIL=20270422;BYDAY=3SU
SUMMARY:DOLCE VITA
DESCRIPTION:Need to DANCE on a Sunday nite? Check out DOLCE VITA\, the monthly italo disco / synthpop / darkwave / hi-NRG dance nite at Cleveland's underground disco destination\, Crobar! Hosted by Ricki Chianti and his records\, featuring unique visual aesthetics amongst the party fog. Food service provided by Kosmic Kitchen\, with a spacious patio (weather permitting)! Disco will never die! Price: Free
LOCATION;ALTREP="https://www.clevescene.com/location/crobar-38718849":Crobar @ 3244 St. Clair\,Cleveland\,OH
CATEGORIES:DJ & Dance
END:VEVENT
END:VCALENDAR