BEGIN:VCALENDAR
VERSION:2.0
PRODID:-//gyrobase/iCalendar//NONSGML v1.0//EN
BEGIN:VEVENT
LOCATION:15711 Waterloo Road\,Cleveland\, \,Cleveland\, OH\, 44110
DTSTART:20260522T190000
DTEND:20260522T230000
SUMMARY:Toaster Coaster vs. The Weather Machine - Album Release Show
DESCRIPTION:Toaster Coaster vs. The Weather Machine ALBUM Release show featuring Cellophane Jane & Plum Shed Price: 15.00
LOCATION;ALTREP="https://www.clevescene.com/location/beachland-ballroom-and-tavern-40285444":Beachland Ballroom and Tavern @ 15711 Waterloo Road\,Cleveland\,OH  44110
CATEGORIES:Rock & Pop
END:VEVENT
END:VCALENDAR