BEGIN:VCALENDAR
VERSION:2.0
PRODID:-//gyrobase/iCalendar//NONSGML v1.0//EN
BEGIN:VEVENT
LOCATION:7165 Big Creek Parkway\,Middleburg Heights\, \,Middleburg Heights\, OH\, 44130
DTSTART:20260502T090000
DTEND:20260502T210000
SUMMARY:Hearts of Gold 50th Annual Teeter-Totter Marathon
DESCRIPTION:Celebrate the 50th Annual Teeter-Totter Marathon\, a unique community tradition supporting Second Mile Outreach. For over five decades\, participants have spent a weekend keeping a teeter-totter in motion while collecting donations to help their neighbors. Stop by to cheer on riders\, ride it yourself\, make a gift\, and join the history. The marathon runs Saturday 9 AM–9 PM and Sunday 8 AM–12 PM\, culminating in a closing celebration at noon. All donations support hunger relief\, veteran support\, and other efforts in Cuyahoga County.
LOCATION;ALTREP="https://www.clevescene.com/location/middleburg-heights-community-united-church-of-christ-38562115":Middleburg Heights Community United Church of Christ @ 7165 Big Creek Parkway\,Middleburg Heights\,OH  44130
CATEGORIES:Fund-Raisers,Family & Kids,Volunteers
END:VEVENT
BEGIN:VEVENT
LOCATION:7165 Big Creek Parkway\,Middleburg Heights\, \,Middleburg Heights\, OH\, 44130
DTSTART:20260503T080000
DTEND:20260503T120000
SUMMARY:Hearts of Gold 50th Annual Teeter-Totter Marathon
DESCRIPTION:Celebrate the 50th Annual Teeter-Totter Marathon\, a unique community tradition supporting Second Mile Outreach. For over five decades\, participants have spent a weekend keeping a teeter-totter in motion while collecting donations to help their neighbors. Stop by to cheer on riders\, ride it yourself\, make a gift\, and join the history. The marathon runs Saturday 9 AM–9 PM and Sunday 8 AM–12 PM\, culminating in a closing celebration at noon. All donations support hunger relief\, veteran support\, and other efforts in Cuyahoga County.
LOCATION;ALTREP="https://www.clevescene.com/location/middleburg-heights-community-united-church-of-christ-38562115":Middleburg Heights Community United Church of Christ @ 7165 Big Creek Parkway\,Middleburg Heights\,OH  44130
CATEGORIES:Fund-Raisers,Family & Kids,Volunteers
END:VEVENT
END:VCALENDAR