BEGIN:VCALENDAR
VERSION:2.0
PRODID:-//gyrobase/iCalendar//NONSGML v1.0//EN
BEGIN:VEVENT
LOCATION:1100 Rock and Roll Blvd.\,Cleveland\, \,Cleveland\, OH\, 44114
DTSTART:20260626T200000
DTEND:20260626T210000
SUMMARY:Earl Sweatshirt w/ MIKE
DESCRIPTION:
LOCATION;ALTREP="https://www.clevescene.com/location/rock-and-roll-hall-of-fame-1433376":Rock & Roll Hall of Fame @ 1100 Rock and Roll Blvd.\,Cleveland\,OH  44114
CATEGORIES:On Tour
END:VEVENT
END:VCALENDAR