BEGIN:VCALENDAR
VERSION:2.0
PRODID:-//gyrobase/iCalendar//NONSGML v1.0//EN
BEGIN:VEVENT
LOCATION:1849 W. 24th St.\,Cleveland\, \,Cleveland\, OH\, 44113
DTSTART:20260424T193000
DTEND:20260424T220000
SUMMARY:Greg Banaszak All-Star NE Ohio Quintet w/Theron Brown & Chris Anderson
DESCRIPTION:Also Saxophonist and Case Western Reserve and Cleveland Institute of Music Professor leads All-Star Quintet Live @ Irishtown Bend Taproom! Special Opening Artist: Case Jazz Combos Alto saxophonist Greg Banaszak brings a wealth of experience to the bandstand. A professor of music at Case and CIM\, Banaszak has extensive credentials in the Jazz and Classical music fields. He studied at the Hartt School of Music under his mentor legendary saxophonist Jackie McLean. Since that time he has performed worldwide including multiple countries in Europe\, Asia\, and Central and South America\, as well as appearances all over North America. A versatile Price: 20
LOCATION;ALTREP="https://www.clevescene.com/location/irishtown-bend-taproom-at-market-garden-brewery-46877336":Irishtown Bend Taproom at Market Garden Brewery @ 1849 W. 24th St.\,Cleveland\,OH  44113
CATEGORIES:On Tour,Music Around Town
END:VEVENT
END:VCALENDAR