BEGIN:VCALENDAR
VERSION:2.0
PRODID:-//gyrobase/iCalendar//NONSGML v1.0//EN
BEGIN:VEVENT
LOCATION:1849 W. 24th St.\,Cleveland\, \,Cleveland\, OH\, 44113
DTSTART:20260425T193000
DTEND:20260425T220000
SUMMARY:Blue Lunch
DESCRIPTION:Legendary 7 Pc. Cleveland Blues/Soul/Jazz/ Band now 40 + Years Strong Light up the Irishtown Bend Taproom! Featuring: Billy Seward-Guitar and Vocals Pete London-Harmonica and Vocals Mike Sands-Piano and Keys Ray DeForest-Bass Rod Reisman -Drums Mike Rubin-Trumpet Adam Gilbert-Tenor Sax Blue Lunch is a 7 piece band with a horn section\, that has been performing it's brand of Blues\, Soul\, New Orleans Rhythm and Blues\, and Jazz throughout the region for over 40 years! Blue Lunch has performed at numerous festivals including the Tri-C JazzFest\, Pittsburgh Blues Festival\, Columbus Jazz and Blues Festival\, Elkhart\, Indiana Blues Festival\, as well as Price: 20
LOCATION;ALTREP="https://www.clevescene.com/location/irishtown-bend-taproom-at-market-garden-brewery-46877336":Irishtown Bend Taproom at Market Garden Brewery @ 1849 W. 24th St.\,Cleveland\,OH  44113
CATEGORIES:Music Around Town,On Tour
END:VEVENT
END:VCALENDAR