BEGIN:VCALENDAR
VERSION:2.0
PRODID:-//gyrobase/iCalendar//NONSGML v1.0//EN
BEGIN:VEVENT
LOCATION:2401 Ontario St.\,Cleveland\, \,Cleveland\, OH\, 44115
DTSTART:20260701T131000
DTEND:20260701T141000
SUMMARY:Cleveland Guardians vs Chicago White Sox: Kids Fun Day
DESCRIPTION:
LOCATION;ALTREP="https://www.clevescene.com/location/progressive-field-1431577":Progressive Field @ 2401 Ontario St.\,Cleveland\,OH  44115
CATEGORIES:Sports (Spectator)
END:VEVENT
BEGIN:VEVENT
LOCATION:2401 Ontario St.\,Cleveland\, \,Cleveland\, OH\, 44115
DTSTART:20260705T140000
DTEND:20260705T150000
SUMMARY:Cleveland Guardians vs Chicago White Sox: Kids Fun Day
DESCRIPTION:
LOCATION;ALTREP="https://www.clevescene.com/location/progressive-field-1431577":Progressive Field @ 2401 Ontario St.\,Cleveland\,OH  44115
CATEGORIES:Sports (Spectator)
END:VEVENT
END:VCALENDAR