BEGIN:VCALENDAR
VERSION:2.0
PRODID:-//gyrobase/iCalendar//NONSGML v1.0//EN
BEGIN:VEVENT
LOCATION:1501 Euclid Ave\,Cleveland\, \,Cleveland\, OH\, 44115
DTSTART:20260620T160000
DTEND:20260620T163000
RRULE:FREQ=DAILY;INTERVAL=1;UNTIL=20260621
SUMMARY:C.S. Lewis On Stage: Further Up and Further In
DESCRIPTION:Award-winning actor Max McLean's tour de force performance captures C.S. Lewis' magnetic personality\, astonishing eloquence and laugh-out-loud wit to create an onstage experience venturing deep into the soul of one of the most influential thinkers of the past century. Artist: Max McLean Category: Arts | Performing Arts | Theatre Date and Time: Saturday June 20\, 2026 at 4:00 pm to Sunday June 21\, 2026 at 4:30 pm Venue details: Playhouse Square\, 1501 Euclid Avenue\, Cleveland\, Ohio\, 44115\, United States Price: General Admission: USD 81.00
LOCATION;ALTREP="https://www.clevescene.com/location/playhouse-square-4649557":Playhouse Square @ 1501 Euclid Ave\,Cleveland\,OH  44115
CATEGORIES:Theatrical Events
END:VEVENT
END:VCALENDAR