BEGIN:VCALENDAR
VERSION:2.0
PRODID:-//gyrobase/iCalendar//NONSGML v1.0//EN
BEGIN:VEVENT
LOCATION:308 Euclid Ave.\,Cleveland\, \,Cleveland\, OH\, 44114
DTSTART;VALUE=DATE:20260430
DTEND;VALUE=DATE:20260501
SUMMARY:The New Pornographers
DESCRIPTION:The Canadian power pop group performs at 7 p.m. at House of Blues. Singer-songwriter Will Sheff opens.
LOCATION;ALTREP="https://www.clevescene.com/location/house-of-blues-1432461":House of Blues @ 308 Euclid Ave.\,Cleveland\,OH  44114
CATEGORIES:DJ & Dance
END:VEVENT
END:VCALENDAR