BEGIN:VCALENDAR
VERSION:2.0
PRODID:-//gyrobase/iCalendar//NONSGML v1.0//EN
BEGIN:VEVENT
LOCATION:10705 Northfield Rd.\,Northfield\, \,Northfield\, OH
DTSTART;VALUE=DATE:20260430
DTEND;VALUE=DATE:20260501
SUMMARY:The Temptations & the Four Tops
DESCRIPTION:The two Motown groups bring their tour celebrating the 60th anniversary of "My Girl" to MGM Northfield Park — Center Stage. The concert begins at 7:30 p.m.
LOCATION;ALTREP="https://www.clevescene.com/location/mgm-northfield-park-3717122":MGM Northfield Park @ 10705 Northfield Rd.\,Northfield\,OH
CATEGORIES:DJ & Dance
END:VEVENT
END:VCALENDAR