BEGIN:VCALENDAR
VERSION:2.0
PRODID:-//gyrobase/iCalendar//NONSGML v1.0//EN
BEGIN:VEVENT
LOCATION:10705 Northfield Rd.\,Northfield\, \,Northfield\, OH
DTSTART;VALUE=DATE:20260425
DTEND;VALUE=DATE:20260426
SUMMARY:Kenny Wayne Shepherd Band
DESCRIPTION:The blues singer-guitarist celebrates the anniversary of his debut album by playing it in its entirety at this show at MGM Northfield Park — Center Stage. In a second set\, he'll revisit other material from his 30-year career. The show begins at 8 p.m.
LOCATION;ALTREP="https://www.clevescene.com/location/mgm-northfield-park-3717122":MGM Northfield Park @ 10705 Northfield Rd.\,Northfield\,OH
CATEGORIES:Seasonal Special Happenings
END:VEVENT
END:VCALENDAR