BEGIN:VCALENDAR
VERSION:2.0
PRODID:-//gyrobase/iCalendar//NONSGML v1.0//EN
BEGIN:VEVENT
LOCATION:2035 East Fourth St.\,Cleveland\, \,Cleveland\, OH\, 44115
DTSTART;VALUE=DATE:20260423
DTEND;VALUE=DATE:20260424
SUMMARY:Tommy Brennan
DESCRIPTION:The comedian performs at 7:30 tonight at Hilarities.
LOCATION;ALTREP="https://www.clevescene.com/location/pickwick-and-frolic-hilarities-east-4th-1432334":Pickwick & Frolic/Hilarities East 4th @ 2035 East Fourth St.\,Cleveland\,OH  44115
CATEGORIES:DJ & Dance
END:VEVENT
END:VCALENDAR