BEGIN:VCALENDAR
VERSION:2.0
PRODID:-//gyrobase/iCalendar//NONSGML v1.0//EN
BEGIN:VEVENT
LOCATION:1511 Euclid Ave.\,Cleveland\, \,Cleveland\, OH\, 44115
DTSTART;VALUE=DATE:20261024
DTEND;VALUE=DATE:20261025
SUMMARY:Zarna Garg: Million Dollar Excuses
DESCRIPTION:A housewife-turned-standup comedian and author\, Zarna Garg comes to the Mimi Ohio Theatre\, where she performs at 7 p.m.
LOCATION;ALTREP="https://www.clevescene.com/location/mimi-ohio-theatre-31173743":Mimi Ohio Theatre @ 1511 Euclid Ave.\,Cleveland\,OH  44115
CATEGORIES:Seasonal Special Happenings
END:VEVENT
END:VCALENDAR