BEGIN:VCALENDAR
VERSION:2.0
PRODID:-//gyrobase/iCalendar//NONSGML v1.0//EN
BEGIN:VEVENT
LOCATION:1511 Euclid Ave.\,Cleveland\, \,Cleveland\, OH\, 44115
DTSTART;VALUE=DATE:20260425
DTEND;VALUE=DATE:20260426
SUMMARY:YY Dance Company
DESCRIPTION:Choreographer Yue Yin's dance troupe makes its Ohio debut at 7:30 tonight at the Ohio Theatre as DANCECleveland's season closing performance.
LOCATION;ALTREP="https://www.clevescene.com/location/mimi-ohio-theatre-31173743":Mimi Ohio Theatre @ 1511 Euclid Ave.\,Cleveland\,OH  44115
CATEGORIES:Seasonal Special Happenings
END:VEVENT
END:VCALENDAR