BEGIN:VCALENDAR
VERSION:2.0
PRODID:-//gyrobase/iCalendar//NONSGML v1.0//EN
BEGIN:VEVENT
LOCATION:1519 Euclid Ave.\,Cleveland\, \,Cleveland\, OH\, 44115
DTSTART;VALUE=DATE:20260425
DTEND;VALUE=DATE:20260426
SUMMARY:The Best of Steve Martin & Martin Short
DESCRIPTION:The two comedians and actors who have struck gold with their Hulu hit Only Murders in the Building come to the State Theatre for a night of comedy and hijinks. The show starts at 8 p.m. The duo return to the venue at 7:30 p.m. tomorrow.
LOCATION;ALTREP="https://www.clevescene.com/location/keybank-state-theatre-1431520":KeyBank State Theatre @ 1519 Euclid Ave.\,Cleveland\,OH  44115
CATEGORIES:Seasonal Special Happenings
END:VEVENT
END:VCALENDAR