BEGIN:VCALENDAR
VERSION:2.0
PRODID:-//gyrobase/iCalendar//NONSGML v1.0//EN
BEGIN:VEVENT
LOCATION:5000 Euclid Ave.\,Cleveland\, \,Cleveland\, OH\, 44103
DTSTART;VALUE=DATE:20260425
DTEND;VALUE=DATE:20260426
SUMMARY:Kathy Griffin
DESCRIPTION:The edgy comedian performs tonight at 7 at the Agora.
LOCATION;ALTREP="https://www.clevescene.com/location/agora-theater-43643994":Agora Theater @ 5000 Euclid Ave.\,Cleveland\,OH  44103
CATEGORIES:Seasonal Special Happenings
END:VEVENT
END:VCALENDAR