BEGIN:VCALENDAR
VERSION:2.0
PRODID:-//gyrobase/iCalendar//NONSGML v1.0//EN
BEGIN:VEVENT
LOCATION:5000 Euclid Ave.\,Cleveland\, \,Cleveland\, OH\, 44103
DTSTART;VALUE=DATE:20260424
DTEND;VALUE=DATE:20260425
SUMMARY:An Evening with Band of Horses
DESCRIPTION:Led by singer-songwriter Ben Bridwell\, a guy with a distinctive\, quivering voice\, this indie rock act out of the Pacific Northwest has somehow persevered despite the lack of commercial success. The band brings its tour celebrating the 20th anniversary of its debut album\, Everything All the Time\, to the Agora. Doors open at 7 p.m.
LOCATION;ALTREP="https://www.clevescene.com/location/agora-theater-43643994":Agora Theater @ 5000 Euclid Ave.\,Cleveland\,OH  44103
CATEGORIES:DJ & Dance
END:VEVENT
END:VCALENDAR