BEGIN:VCALENDAR
VERSION:2.0
PRODID:-//gyrobase/iCalendar//NONSGML v1.0//EN
BEGIN:VEVENT
LOCATION:3900 Wildlife Way\,Cleveland\, \,Cleveland\, OH\, 44109
DTSTART:20260422T100000
DTEND:20260422T140000
SUMMARY:Earth Day E-Recycling Event at Cleveland Metroparks Zoo
DESCRIPTION:Celebrate Earth Day with a public e-recycling event in partnership with the Cleveland Zoological Society. Community members are invited to responsibly recycle old electronics\, helping keep harmful materials out of landfills while supporting sustainability efforts in Northeast Ohio. This drop-off event provides a convenient way to dispose of outdated devices in an environmentally responsible manner. Open to the public. Price: Free
LOCATION;ALTREP="https://www.clevescene.com/location/cleveland-metroparks-zoo-1431494":Cleveland Metroparks Zoo @ 3900 Wildlife Way\,Cleveland\,OH  44109
CATEGORIES:Family & Kids
END:VEVENT
END:VCALENDAR