BEGIN:VCALENDAR
VERSION:2.0
PRODID:-//gyrobase/iCalendar//NONSGML v1.0//EN
BEGIN:VEVENT
LOCATION:15335 Waterloo Rd\,Cleveland\, \,Cleveland\, OH\, 44110
SUMMARY:Brand New Hat
DESCRIPTION:
LOCATION;ALTREP="https://www.clevescene.com/location/treelawn-social-club-4473966":Treelawn Social Club @ 15335 Waterloo Rd\,Cleveland\,OH  44110
CATEGORIES:On Tour
END:VEVENT
BEGIN:VEVENT
LOCATION:15335 Waterloo Rd\,Cleveland\, \,Cleveland\, OH\, 44110
DTSTART:20260703T200000
DTEND:20260703T210000
SUMMARY:Brand New Hat
DESCRIPTION:
LOCATION;ALTREP="https://www.clevescene.com/location/treelawn-social-club-4473966":Treelawn Social Club @ 15335 Waterloo Rd\,Cleveland\,OH  44110
CATEGORIES:On Tour
END:VEVENT
BEGIN:VEVENT
LOCATION:15335 Waterloo Rd\,Cleveland\, \,Cleveland\, OH\, 44110
DTSTART:20260815T200000
DTEND:20260815T210000
SUMMARY:Brand New Hat
DESCRIPTION:
LOCATION;ALTREP="https://www.clevescene.com/location/treelawn-social-club-4473966":Treelawn Social Club @ 15335 Waterloo Rd\,Cleveland\,OH  44110
CATEGORIES:On Tour
END:VEVENT
END:VCALENDAR