BEGIN:VCALENDAR
VERSION:2.0
PRODID:-//gyrobase/iCalendar//NONSGML v1.0//EN
BEGIN:VEVENT
LOCATION:308 Euclid Ave.\,Cleveland\, \,Cleveland\, OH\, 44114
DTSTART:20260530T210000
DTEND:20260530T220000
SUMMARY:Gasolina Party - 18 & Over Only\, Valid ID Required
DESCRIPTION:
LOCATION;ALTREP="https://www.clevescene.com/location/house-of-blues-1432461":House of Blues @ 308 Euclid Ave.\,Cleveland\,OH  44114
CATEGORIES:Music Around Town
END:VEVENT
END:VCALENDAR