BEGIN:VCALENDAR
VERSION:2.0
PRODID:-//gyrobase/iCalendar//NONSGML v1.0//EN
BEGIN:VEVENT
LOCATION:2401 Ontario St.\,Cleveland\, \,Cleveland\, OH\, 44115
DTSTART:20260901T184000
DTEND:20260901T194000
SUMMARY:Cleveland Guardians vs. Toronto Blue Jays
DESCRIPTION:
LOCATION;ALTREP="https://www.clevescene.com/location/progressive-field-1431577":Progressive Field @ 2401 Ontario St.\,Cleveland\,OH  44115
CATEGORIES:Sports (Spectator)
END:VEVENT
BEGIN:VEVENT
LOCATION:2401 Ontario St.\,Cleveland\, \,Cleveland\, OH\, 44115
DTSTART:20260902T184000
DTEND:20260902T194000
SUMMARY:Cleveland Guardians vs. Toronto Blue Jays
DESCRIPTION:
LOCATION;ALTREP="https://www.clevescene.com/location/progressive-field-1431577":Progressive Field @ 2401 Ontario St.\,Cleveland\,OH  44115
CATEGORIES:Sports (Spectator)
END:VEVENT
BEGIN:VEVENT
LOCATION:2401 Ontario St.\,Cleveland\, \,Cleveland\, OH\, 44115
DTSTART:20260903T131000
DTEND:20260903T141000
SUMMARY:Cleveland Guardians vs. Toronto Blue Jays
DESCRIPTION:
LOCATION;ALTREP="https://www.clevescene.com/location/progressive-field-1431577":Progressive Field @ 2401 Ontario St.\,Cleveland\,OH  44115
CATEGORIES:Sports (Spectator)
END:VEVENT
END:VCALENDAR