BEGIN:VCALENDAR
VERSION:2.0
PRODID:-//gyrobase/iCalendar//NONSGML v1.0//EN
BEGIN:VEVENT
LOCATION:2401 Ontario St.\,Cleveland\, \,Cleveland\, OH\, 44115
DTSTART:20260731T191000
DTEND:20260731T201000
SUMMARY:Cleveland Guardians vs. Arizona Diamondbacks
DESCRIPTION:
LOCATION;ALTREP="https://www.clevescene.com/location/progressive-field-1431577":Progressive Field @ 2401 Ontario St.\,Cleveland\,OH  44115
CATEGORIES:Sports (Spectator)
END:VEVENT
BEGIN:VEVENT
LOCATION:2401 Ontario St.\,Cleveland\, \,Cleveland\, OH\, 44115
DTSTART:20260801T191500
DTEND:20260801T201500
SUMMARY:Cleveland Guardians vs. Arizona Diamondbacks
DESCRIPTION:
LOCATION;ALTREP="https://www.clevescene.com/location/progressive-field-1431577":Progressive Field @ 2401 Ontario St.\,Cleveland\,OH  44115
CATEGORIES:Sports (Spectator)
END:VEVENT
BEGIN:VEVENT
LOCATION:2401 Ontario St.\,Cleveland\, \,Cleveland\, OH\, 44115
DTSTART:20260802T134000
DTEND:20260802T144000
SUMMARY:Cleveland Guardians vs. Arizona Diamondbacks
DESCRIPTION:
LOCATION;ALTREP="https://www.clevescene.com/location/progressive-field-1431577":Progressive Field @ 2401 Ontario St.\,Cleveland\,OH  44115
CATEGORIES:Sports (Spectator)
END:VEVENT
END:VCALENDAR