BEGIN:VCALENDAR
VERSION:2.0
PRODID:-//gyrobase/iCalendar//NONSGML v1.0//EN
BEGIN:VEVENT
LOCATION:2401 Ontario St.\,Cleveland\, \,Cleveland\, OH\, 44115
DTSTART:20260508T191000
DTEND:20260508T201000
SUMMARY:Cleveland Guardians vs. Minnesota Twins
DESCRIPTION:
LOCATION;ALTREP="https://www.clevescene.com/location/progressive-field-1431577":Progressive Field @ 2401 Ontario St.\,Cleveland\,OH  44115
CATEGORIES:Sports (Spectator)
END:VEVENT
BEGIN:VEVENT
LOCATION:2401 Ontario St.\,Cleveland\, \,Cleveland\, OH\, 44115
DTSTART:20260508T191500
DTEND:20260508T201500
SUMMARY:Cleveland Guardians vs. Minnesota Twins
DESCRIPTION:
LOCATION;ALTREP="https://www.clevescene.com/location/progressive-field-1431577":Progressive Field @ 2401 Ontario St.\,Cleveland\,OH  44115
CATEGORIES:Sports (Spectator)
END:VEVENT
BEGIN:VEVENT
LOCATION:2401 Ontario St.\,Cleveland\, \,Cleveland\, OH\, 44115
DTSTART:20260509T181000
DTEND:20260509T191000
SUMMARY:Cleveland Guardians vs. Minnesota Twins
DESCRIPTION:
LOCATION;ALTREP="https://www.clevescene.com/location/progressive-field-1431577":Progressive Field @ 2401 Ontario St.\,Cleveland\,OH  44115
CATEGORIES:Sports (Spectator)
END:VEVENT
BEGIN:VEVENT
LOCATION:2401 Ontario St.\,Cleveland\, \,Cleveland\, OH\, 44115
DTSTART:20260510T134000
DTEND:20260510T144000
SUMMARY:Cleveland Guardians vs. Minnesota Twins
DESCRIPTION:
LOCATION;ALTREP="https://www.clevescene.com/location/progressive-field-1431577":Progressive Field @ 2401 Ontario St.\,Cleveland\,OH  44115
CATEGORIES:Sports (Spectator)
END:VEVENT
BEGIN:VEVENT
LOCATION:2401 Ontario St.\,Cleveland\, \,Cleveland\, OH\, 44115
DTSTART:20260702T184000
DTEND:20260702T194000
SUMMARY:Cleveland Guardians vs. Minnesota Twins
DESCRIPTION:
LOCATION;ALTREP="https://www.clevescene.com/location/progressive-field-1431577":Progressive Field @ 2401 Ontario St.\,Cleveland\,OH  44115
CATEGORIES:Sports (Spectator)
END:VEVENT
BEGIN:VEVENT
LOCATION:2401 Ontario St.\,Cleveland\, \,Cleveland\, OH\, 44115
DTSTART:20260720T184000
DTEND:20260720T194000
SUMMARY:Cleveland Guardians vs. Minnesota Twins
DESCRIPTION:
LOCATION;ALTREP="https://www.clevescene.com/location/progressive-field-1431577":Progressive Field @ 2401 Ontario St.\,Cleveland\,OH  44115
CATEGORIES:Sports (Spectator)
END:VEVENT
BEGIN:VEVENT
LOCATION:2401 Ontario St.\,Cleveland\, \,Cleveland\, OH\, 44115
DTSTART:20260722T184000
DTEND:20260722T194000
SUMMARY:Cleveland Guardians vs. Minnesota Twins
DESCRIPTION:
LOCATION;ALTREP="https://www.clevescene.com/location/progressive-field-1431577":Progressive Field @ 2401 Ontario St.\,Cleveland\,OH  44115
CATEGORIES:Sports (Spectator)
END:VEVENT
END:VCALENDAR