BEGIN:VCALENDAR
VERSION:2.0
PRODID:-//gyrobase/iCalendar//NONSGML v1.0//EN
BEGIN:VEVENT
LOCATION:2401 Ontario St.\,Cleveland\, \,Cleveland\, OH\, 44115
SUMMARY:Cleveland Guardians vs. Kansas City Royals
DESCRIPTION:
LOCATION;ALTREP="https://www.clevescene.com/location/progressive-field-1431577":Progressive Field @ 2401 Ontario St.\,Cleveland\,OH  44115
CATEGORIES:Sports (Spectator)
END:VEVENT
BEGIN:VEVENT
LOCATION:2401 Ontario St.\,Cleveland\, \,Cleveland\, OH\, 44115
SUMMARY:Cleveland Guardians vs. Kansas City Royals
DESCRIPTION:
LOCATION;ALTREP="https://www.clevescene.com/location/progressive-field-1431577":Progressive Field @ 2401 Ontario St.\,Cleveland\,OH  44115
CATEGORIES:Sports (Spectator)
END:VEVENT
BEGIN:VEVENT
LOCATION:2401 Ontario St.\,Cleveland\, \,Cleveland\, OH\, 44115
SUMMARY:Cleveland Guardians vs. Kansas City Royals
DESCRIPTION:
LOCATION;ALTREP="https://www.clevescene.com/location/progressive-field-1431577":Progressive Field @ 2401 Ontario St.\,Cleveland\,OH  44115
CATEGORIES:Sports (Spectator)
END:VEVENT
BEGIN:VEVENT
LOCATION:2401 Ontario St.\,Cleveland\, \,Cleveland\, OH\, 44115
SUMMARY:Cleveland Guardians vs. Kansas City Royals
DESCRIPTION:
LOCATION;ALTREP="https://www.clevescene.com/location/progressive-field-1431577":Progressive Field @ 2401 Ontario St.\,Cleveland\,OH  44115
CATEGORIES:Sports (Spectator)
END:VEVENT
BEGIN:VEVENT
LOCATION:2401 Ontario St.\,Cleveland\, \,Cleveland\, OH\, 44115
DTSTART:20260828T191000
DTEND:20260828T201000
SUMMARY:Cleveland Guardians vs. Kansas City Royals
DESCRIPTION:
LOCATION;ALTREP="https://www.clevescene.com/location/progressive-field-1431577":Progressive Field @ 2401 Ontario St.\,Cleveland\,OH  44115
CATEGORIES:Sports (Spectator)
END:VEVENT
BEGIN:VEVENT
LOCATION:2401 Ontario St.\,Cleveland\, \,Cleveland\, OH\, 44115
DTSTART:20260829T161000
DTEND:20260829T171000
SUMMARY:Cleveland Guardians vs. Kansas City Royals
DESCRIPTION:
LOCATION;ALTREP="https://www.clevescene.com/location/progressive-field-1431577":Progressive Field @ 2401 Ontario St.\,Cleveland\,OH  44115
CATEGORIES:Sports (Spectator)
END:VEVENT
BEGIN:VEVENT
LOCATION:2401 Ontario St.\,Cleveland\, \,Cleveland\, OH\, 44115
DTSTART:20260830T134000
DTEND:20260830T144000
SUMMARY:Cleveland Guardians vs. Kansas City Royals
DESCRIPTION:
LOCATION;ALTREP="https://www.clevescene.com/location/progressive-field-1431577":Progressive Field @ 2401 Ontario St.\,Cleveland\,OH  44115
CATEGORIES:Sports (Spectator)
END:VEVENT
BEGIN:VEVENT
LOCATION:2401 Ontario St.\,Cleveland\, \,Cleveland\, OH\, 44115
DTSTART:20260915T184000
DTEND:20260915T194000
SUMMARY:Cleveland Guardians vs. Kansas City Royals
DESCRIPTION:
LOCATION;ALTREP="https://www.clevescene.com/location/progressive-field-1431577":Progressive Field @ 2401 Ontario St.\,Cleveland\,OH  44115
CATEGORIES:Sports (Spectator)
END:VEVENT
END:VCALENDAR