BEGIN:VCALENDAR
VERSION:2.0
PRODID:-//gyrobase/iCalendar//NONSGML v1.0//EN
BEGIN:VEVENT
LOCATION:6205 Detroit Ave.\,Cleveland\, \,Cleveland\, OH\, 44114
DTSTART:20260724T090000
DTEND:20260724T180000
SUMMARY:International Conference on Machine Intelligence\, Data Science & Computing
DESCRIPTION:Universal Pannel extends its warm welcome to all its participants to “International Conference on Machine Intelligence\, Data Science & Computing” scheduled on July 24-25 \, 2026 at Paris\, France with a theme “Shaping the Intelligent Future Through Data-Driven Innovation”.
LOCATION;ALTREP="https://www.clevescene.com/location/parish-hall-1432960":Parish Hall @ 6205 Detroit Ave.\,Cleveland\,OH  44114
CATEGORIES:Theatrical Events
END:VEVENT
END:VCALENDAR