BEGIN:VCALENDAR
VERSION:2.0
PRODID:-//gyrobase/iCalendar//NONSGML v1.0//EN
BEGIN:VEVENT
LOCATION:1615 Euclid Ave.\,Cleveland\, \,Cleveland\, OH\, 44115
DTSTART:20260609T193000
DTEND:20260609T203000
SUMMARY:The Great Gatsby (Touring)
DESCRIPTION:
LOCATION;ALTREP="https://www.clevescene.com/location/connor-palace-1431949":Connor Palace @ 1615 Euclid Ave.\,Cleveland\,OH  44115
CATEGORIES:Theatrical Events
END:VEVENT
BEGIN:VEVENT
LOCATION:1615 Euclid Ave.\,Cleveland\, \,Cleveland\, OH\, 44115
DTSTART:20260610T193000
DTEND:20260610T203000
SUMMARY:The Great Gatsby (Touring)
DESCRIPTION:
LOCATION;ALTREP="https://www.clevescene.com/location/connor-palace-1431949":Connor Palace @ 1615 Euclid Ave.\,Cleveland\,OH  44115
CATEGORIES:Theatrical Events
END:VEVENT
BEGIN:VEVENT
LOCATION:1615 Euclid Ave.\,Cleveland\, \,Cleveland\, OH\, 44115
DTSTART:20260611T193000
DTEND:20260611T203000
SUMMARY:The Great Gatsby (Touring)
DESCRIPTION:
LOCATION;ALTREP="https://www.clevescene.com/location/connor-palace-1431949":Connor Palace @ 1615 Euclid Ave.\,Cleveland\,OH  44115
CATEGORIES:Theatrical Events
END:VEVENT
BEGIN:VEVENT
LOCATION:1615 Euclid Ave.\,Cleveland\, \,Cleveland\, OH\, 44115
DTSTART:20260612T193000
DTEND:20260612T203000
SUMMARY:The Great Gatsby (Touring)
DESCRIPTION:
LOCATION;ALTREP="https://www.clevescene.com/location/connor-palace-1431949":Connor Palace @ 1615 Euclid Ave.\,Cleveland\,OH  44115
CATEGORIES:Theatrical Events
END:VEVENT
BEGIN:VEVENT
LOCATION:1615 Euclid Ave.\,Cleveland\, \,Cleveland\, OH\, 44115
DTSTART:20260613T133000
DTEND:20260613T143000
SUMMARY:The Great Gatsby (Touring)
DESCRIPTION:
LOCATION;ALTREP="https://www.clevescene.com/location/connor-palace-1431949":Connor Palace @ 1615 Euclid Ave.\,Cleveland\,OH  44115
CATEGORIES:Theatrical Events
END:VEVENT
BEGIN:VEVENT
LOCATION:1615 Euclid Ave.\,Cleveland\, \,Cleveland\, OH\, 44115
DTSTART:20260613T193000
DTEND:20260613T203000
SUMMARY:The Great Gatsby (Touring)
DESCRIPTION:
LOCATION;ALTREP="https://www.clevescene.com/location/connor-palace-1431949":Connor Palace @ 1615 Euclid Ave.\,Cleveland\,OH  44115
CATEGORIES:Theatrical Events
END:VEVENT
BEGIN:VEVENT
LOCATION:1615 Euclid Ave.\,Cleveland\, \,Cleveland\, OH\, 44115
DTSTART:20260614T130000
DTEND:20260614T140000
SUMMARY:The Great Gatsby (Touring)
DESCRIPTION:
LOCATION;ALTREP="https://www.clevescene.com/location/connor-palace-1431949":Connor Palace @ 1615 Euclid Ave.\,Cleveland\,OH  44115
CATEGORIES:Theatrical Events
END:VEVENT
BEGIN:VEVENT
LOCATION:1615 Euclid Ave.\,Cleveland\, \,Cleveland\, OH\, 44115
DTSTART:20260614T183000
DTEND:20260614T193000
SUMMARY:The Great Gatsby (Touring)
DESCRIPTION:
LOCATION;ALTREP="https://www.clevescene.com/location/connor-palace-1431949":Connor Palace @ 1615 Euclid Ave.\,Cleveland\,OH  44115
CATEGORIES:Theatrical Events
END:VEVENT
BEGIN:VEVENT
LOCATION:1615 Euclid Ave.\,Cleveland\, \,Cleveland\, OH\, 44115
DTSTART:20260616T193000
DTEND:20260616T203000
SUMMARY:The Great Gatsby (Touring)
DESCRIPTION:
LOCATION;ALTREP="https://www.clevescene.com/location/connor-palace-1431949":Connor Palace @ 1615 Euclid Ave.\,Cleveland\,OH  44115
CATEGORIES:Theatrical Events
END:VEVENT
BEGIN:VEVENT
LOCATION:1615 Euclid Ave.\,Cleveland\, \,Cleveland\, OH\, 44115
DTSTART:20260617T193000
DTEND:20260617T203000
SUMMARY:The Great Gatsby (Touring)
DESCRIPTION:
LOCATION;ALTREP="https://www.clevescene.com/location/connor-palace-1431949":Connor Palace @ 1615 Euclid Ave.\,Cleveland\,OH  44115
CATEGORIES:Theatrical Events
END:VEVENT
BEGIN:VEVENT
LOCATION:1615 Euclid Ave.\,Cleveland\, \,Cleveland\, OH\, 44115
DTSTART:20260618T193000
DTEND:20260618T203000
SUMMARY:The Great Gatsby (Touring)
DESCRIPTION:
LOCATION;ALTREP="https://www.clevescene.com/location/connor-palace-1431949":Connor Palace @ 1615 Euclid Ave.\,Cleveland\,OH  44115
CATEGORIES:Theatrical Events
END:VEVENT
BEGIN:VEVENT
LOCATION:1615 Euclid Ave.\,Cleveland\, \,Cleveland\, OH\, 44115
DTSTART:20260619T193000
DTEND:20260619T203000
SUMMARY:The Great Gatsby (Touring)
DESCRIPTION:
LOCATION;ALTREP="https://www.clevescene.com/location/connor-palace-1431949":Connor Palace @ 1615 Euclid Ave.\,Cleveland\,OH  44115
CATEGORIES:Theatrical Events
END:VEVENT
BEGIN:VEVENT
LOCATION:1615 Euclid Ave.\,Cleveland\, \,Cleveland\, OH\, 44115
DTSTART:20260620T133000
DTEND:20260620T143000
SUMMARY:The Great Gatsby (Touring)
DESCRIPTION:
LOCATION;ALTREP="https://www.clevescene.com/location/connor-palace-1431949":Connor Palace @ 1615 Euclid Ave.\,Cleveland\,OH  44115
CATEGORIES:Theatrical Events
END:VEVENT
BEGIN:VEVENT
LOCATION:1615 Euclid Ave.\,Cleveland\, \,Cleveland\, OH\, 44115
DTSTART:20260620T193000
DTEND:20260620T203000
SUMMARY:The Great Gatsby (Touring)
DESCRIPTION:
LOCATION;ALTREP="https://www.clevescene.com/location/connor-palace-1431949":Connor Palace @ 1615 Euclid Ave.\,Cleveland\,OH  44115
CATEGORIES:Theatrical Events
END:VEVENT
BEGIN:VEVENT
LOCATION:1615 Euclid Ave.\,Cleveland\, \,Cleveland\, OH\, 44115
DTSTART:20260621T130000
DTEND:20260621T140000
SUMMARY:The Great Gatsby (Touring)
DESCRIPTION:
LOCATION;ALTREP="https://www.clevescene.com/location/connor-palace-1431949":Connor Palace @ 1615 Euclid Ave.\,Cleveland\,OH  44115
CATEGORIES:Theatrical Events
END:VEVENT
BEGIN:VEVENT
LOCATION:1615 Euclid Ave.\,Cleveland\, \,Cleveland\, OH\, 44115
DTSTART:20260621T183000
DTEND:20260621T193000
SUMMARY:The Great Gatsby (Touring)
DESCRIPTION:
LOCATION;ALTREP="https://www.clevescene.com/location/connor-palace-1431949":Connor Palace @ 1615 Euclid Ave.\,Cleveland\,OH  44115
CATEGORIES:Theatrical Events
END:VEVENT
BEGIN:VEVENT
LOCATION:1615 Euclid Ave.\,Cleveland\, \,Cleveland\, OH\, 44115
DTSTART:20260623T193000
DTEND:20260623T203000
SUMMARY:The Great Gatsby (Touring)
DESCRIPTION:
LOCATION;ALTREP="https://www.clevescene.com/location/connor-palace-1431949":Connor Palace @ 1615 Euclid Ave.\,Cleveland\,OH  44115
CATEGORIES:Theatrical Events
END:VEVENT
BEGIN:VEVENT
LOCATION:1615 Euclid Ave.\,Cleveland\, \,Cleveland\, OH\, 44115
DTSTART:20260624T193000
DTEND:20260624T203000
SUMMARY:The Great Gatsby (Touring)
DESCRIPTION:
LOCATION;ALTREP="https://www.clevescene.com/location/connor-palace-1431949":Connor Palace @ 1615 Euclid Ave.\,Cleveland\,OH  44115
CATEGORIES:Theatrical Events
END:VEVENT
BEGIN:VEVENT
LOCATION:1615 Euclid Ave.\,Cleveland\, \,Cleveland\, OH\, 44115
DTSTART:20260625T193000
DTEND:20260625T203000
SUMMARY:The Great Gatsby (Touring)
DESCRIPTION:
LOCATION;ALTREP="https://www.clevescene.com/location/connor-palace-1431949":Connor Palace @ 1615 Euclid Ave.\,Cleveland\,OH  44115
CATEGORIES:Theatrical Events
END:VEVENT
BEGIN:VEVENT
LOCATION:1615 Euclid Ave.\,Cleveland\, \,Cleveland\, OH\, 44115
DTSTART:20260626T193000
DTEND:20260626T203000
SUMMARY:The Great Gatsby (Touring)
DESCRIPTION:
LOCATION;ALTREP="https://www.clevescene.com/location/connor-palace-1431949":Connor Palace @ 1615 Euclid Ave.\,Cleveland\,OH  44115
CATEGORIES:Theatrical Events
END:VEVENT
BEGIN:VEVENT
LOCATION:1615 Euclid Ave.\,Cleveland\, \,Cleveland\, OH\, 44115
DTSTART:20260627T133000
DTEND:20260627T143000
SUMMARY:The Great Gatsby (Touring)
DESCRIPTION:
LOCATION;ALTREP="https://www.clevescene.com/location/connor-palace-1431949":Connor Palace @ 1615 Euclid Ave.\,Cleveland\,OH  44115
CATEGORIES:Theatrical Events
END:VEVENT
BEGIN:VEVENT
LOCATION:1615 Euclid Ave.\,Cleveland\, \,Cleveland\, OH\, 44115
DTSTART:20260627T193000
DTEND:20260627T203000
SUMMARY:The Great Gatsby (Touring)
DESCRIPTION:
LOCATION;ALTREP="https://www.clevescene.com/location/connor-palace-1431949":Connor Palace @ 1615 Euclid Ave.\,Cleveland\,OH  44115
CATEGORIES:Theatrical Events
END:VEVENT
BEGIN:VEVENT
LOCATION:1615 Euclid Ave.\,Cleveland\, \,Cleveland\, OH\, 44115
DTSTART:20260628T130000
DTEND:20260628T140000
SUMMARY:The Great Gatsby (Touring)
DESCRIPTION:
LOCATION;ALTREP="https://www.clevescene.com/location/connor-palace-1431949":Connor Palace @ 1615 Euclid Ave.\,Cleveland\,OH  44115
CATEGORIES:Theatrical Events
END:VEVENT
BEGIN:VEVENT
LOCATION:1615 Euclid Ave.\,Cleveland\, \,Cleveland\, OH\, 44115
DTSTART:20260628T183000
DTEND:20260628T193000
SUMMARY:The Great Gatsby (Touring)
DESCRIPTION:
LOCATION;ALTREP="https://www.clevescene.com/location/connor-palace-1431949":Connor Palace @ 1615 Euclid Ave.\,Cleveland\,OH  44115
CATEGORIES:Theatrical Events
END:VEVENT
END:VCALENDAR