BEGIN:VCALENDAR
VERSION:2.0
PRODID:-//gyrobase/iCalendar//NONSGML v1.0//EN
BEGIN:VEVENT
LOCATION:1300 West 78th St.\,Cleveland\, \,Cleveland\, OH\, 44102
DTSTART;VALUE=DATE:20230616
DTEND;VALUE=DATE:20230617
RRULE:FREQ=MONTHLY;INTERVAL=1;UNTIL=20270420;BYDAY=3FR
SUMMARY:Third Friday
DESCRIPTION:From 5 to 9 p.m.\, many of the 78th Street Studios resident artist studios and galleries will be open as part of this monthly event. There will be live music\, and Local West\, a Gordon Square sandwich shop\, will serve food. BARneo will have a selection of adult beverages as well. Admission is free.
LOCATION;ALTREP="https://www.clevescene.com/location/78th-street-studios-3605166":78th Street Studios @ 1300 West 78th St.\,Cleveland\,OH  44102
CATEGORIES:Seasonal Special Happenings
END:VEVENT
END:VCALENDAR